Workbook

Sheet JAN
B3: 2025 | C3: Weather Data
A5: LIST # | B5: Date | C5: High | D5: Low | E5: Precip | F5: Snow | G5: G.D.D. | I5: Avg High | J5: Avg Low | K5: Total Precip
A6: =+'Year 2025'!A6 -> 1 | B6: =+'Year 2025'!B6 -> 45658 | C6: =+'Year 2025'!C6 -> 30 | D6: =+'Year 2025'!D6 -> 21 | E6: =+'Year 2025'!E6 -> 0.04 | F6: =+'Year 2025'!F6 -> 0.3 | G6: =+'Year 2025'!G6 -> 0
A7: =+'Year 2025'!A7 -> 2 | B7: =+'Year 2025'!B7 -> 45659 | C7: =+'Year 2025'!C7 -> 22 | D7: =+'Year 2025'!D7 -> 10 | E7: =+'Year 2025'!E7 -> 0.01 | F7: =+'Year 2025'!F7 -> 0.2 | G7: =+'Year 2025'!G7 -> 0
A8: =+'Year 2025'!A8 -> 3 | B8: =+'Year 2025'!B8 -> 45660 | C8: =+'Year 2025'!C8 -> 19 | D8: =+'Year 2025'!D8 -> 8 | E8: =+'Year 2025'!E8 -> 0.01 | F8: =+'Year 2025'!F8 -> 0.7 | G8: =+'Year 2025'!G8 -> 0
A9: =+'Year 2025'!A9 -> 4 | B9: =+'Year 2025'!B9 -> 45661 | C9: =+'Year 2025'!C9 -> 15 | D9: =+'Year 2025'!D9 -> -3 | E9: =+'Year 2025'!E9 -> 0 | F9: =+'Year 2025'!F9 -> 0 | G9: =+'Year 2025'!G9 -> 0
A10: =+'Year 2025'!A10 -> 5 | B10: =+'Year 2025'!B10 -> 45662 | C10: =+'Year 2025'!C10 -> 12 | D10: =+'Year 2025'!D10 -> -3 | E10: =+'Year 2025'!E10 -> 0 | F10: =+'Year 2025'!F10 -> 0 | G10: =+'Year 2025'!G10 -> 0
A11: =+'Year 2025'!A11 -> 6 | B11: =+'Year 2025'!B11 -> 45663 | C11: =+'Year 2025'!C11 -> 16 | D11: =+'Year 2025'!D11 -> -2 | E11: =+'Year 2025'!E11 -> 0 | F11: =+'Year 2025'!F11 -> 0 | G11: =+'Year 2025'!G11 -> 0
A12: =+'Year 2025'!A12 -> 7 | B12: =+'Year 2025'!B12 -> 45664 | C12: =+'Year 2025'!C12 -> 26 | D12: =+'Year 2025'!D12 -> 8 | E12: =+'Year 2025'!E12 -> 0 | F12: =+'Year 2025'!F12 -> 0 | G12: =+'Year 2025'!G12 -> 0
A13: =+'Year 2025'!A13 -> 8 | B13: =+'Year 2025'!B13 -> 45665 | C13: =+'Year 2025'!C13 -> 22 | D13: =+'Year 2025'!D13 -> 5 | E13: =+'Year 2025'!E13 -> 0 | F13: =+'Year 2025'!F13 -> 0 | G13: =+'Year 2025'!G13 -> 0
A14: =+'Year 2025'!A14 -> 9 | B14: =+'Year 2025'!B14 -> 45666 | C14: =+'Year 2025'!C14 -> 20 | D14: =+'Year 2025'!D14 -> 7 | E14: =+'Year 2025'!E14 -> 0 | F14: =+'Year 2025'!F14 -> 0 | G14: =+'Year 2025'!G14 -> 0
A15: =+'Year 2025'!A15 -> 10 | B15: =+'Year 2025'!B15 -> 45667 | C15: =+'Year 2025'!C15 -> 25 | D15: =+'Year 2025'!D15 -> 8 | E15: =+'Year 2025'!E15 -> T | F15: =+'Year 2025'!F15 -> T | G15: =+'Year 2025'!G15 -> 0
A16: =+'Year 2025'!A16 -> 11 | B16: =+'Year 2025'!B16 -> 45668 | C16: =+'Year 2025'!C16 -> 26 | D16: =+'Year 2025'!D16 -> 17 | E16: =+'Year 2025'!E16 -> T | F16: =+'Year 2025'!F16 -> 0.2 | G16: =+'Year 2025'!G16 -> 0
A17: =+'Year 2025'!A17 -> 12 | B17: =+'Year 2025'!B17 -> 45669 | C17: =+'Year 2025'!C17 -> 24 | D17: =+'Year 2025'!D17 -> 17 | E17: =+'Year 2025'!E17 -> 0.07 | F17: =+'Year 2025'!F17 -> 0.7 | G17: =+'Year 2025'!G17 -> 0
... A36: =+'Year 2025'!A36 -> 31 | B36: =+'Year 2025'!B36 -> 45688 | C36: =+'Year 2025'!C36 -> 50 | D36: =+'Year 2025'!D36 -> 25 | E36: =+'Year 2025'!E36 -> 0 | F36: =+'Year 2025'!F36 -> 0 | G36: =+'Year 2025'!G36 -> 0
B37: AVG HIGH= | C37: =+C48 -> 21.774194 | D37: YR AVG= | E37: 21 | F37: DEV= | G37: =+C37-E37 -> 0.77419355
B38: AVG LOW= | C38: =+D48 -> 2.6129032 | D38: YR AVG= | E38: 1.8 | F38: DEV= | G38: =+C38-E38 -> 0.81290323
B39: AVG MON= | C39: =AVERAGE(C6:D36) -> 12.193548 | D39: YR AVG= | E39: 11.5 | F39: DEV= | G39: =+C39-E39 -> 0.69354839
B40: PRECIP= | C40: =+E48 -> 0.21 | D40: YR AVG= | E40: 0.91 | F40: DEV= | G40: =+C40-E40 -> -0.7
B41: SNOW= | C41: =+F48 -> 3.1 | D41: YR AVG= | E41: 10.1 | F41: DEV= | G41: =+C41-E41 -> -7
B42: G.G.D.= | C42: =+G48 -> 0 | D42: YR AVG= | F42: DEV= | G42: =+C42-E42 -> 0
B43: MAX TEMP= | C43: =MAX(C6:C36) -> 50 | D43: 45688
B44: MIN TEMP= | C44: =MIN(D6:D36) -> -22 | D44: 1/21,22/25
C47: AVG HIGH | D47: AVG LOW | E47: PRECIP | F47: SNOW | G47: G.G.D.
C48: =AVERAGE(C6:C36) -> 21.774194 | D48: =AVERAGE(D6:D36) -> 2.6129032 | E48: =SUM(E6:E36) -> 0.21 | F48: =SUM(F6:F36) -> 3.1 | G48: =SUM(G6:G36) -> 0

Sheet FEB
B3: =JAN!B3 -> 2025 | C3: Weather Data
A5: LIST # | B5: Date | C5: High | D5: Low | E5: Precip | F5: Snow | G5: G.D.D. | I5: Avg High | J5: Avg Low | K5: Total Precip
A6: =+'Year 2025'!A37 -> 32 | B6: =+'Year 2025'!B37 -> 45689 | C6: ='Year 2025'!C37 -> 41 | D6: ='Year 2025'!D37 -> 14 | E6: ='Year 2025'!E37 -> 0 | F6: ='Year 2025'!F37 -> 0 | G6: =+'Year 2025'!G37 -> 0
A7: =+'Year 2025'!A38 -> 33 | B7: =+'Year 2025'!B38 -> 45690 | C7: ='Year 2025'!C38 -> 27 | D7: ='Year 2025'!D38 -> 14 | E7: ='Year 2025'!E38 -> 0.02 | F7: ='Year 2025'!F38 -> 0.3 | G7: =+'Year 2025'!G38 -> 0
A8: =+'Year 2025'!A39 -> 34 | B8: =+'Year 2025'!B39 -> 45691 | C8: ='Year 2025'!C39 -> 33 | D8: ='Year 2025'!D39 -> 27 | E8: ='Year 2025'!E39 -> 0.17 | F8: ='Year 2025'!F39 -> 2.8 | G8: =+'Year 2025'!G39 -> 0
A9: =+'Year 2025'!A40 -> 35 | B9: =+'Year 2025'!B40 -> 45692 | C9: ='Year 2025'!C40 -> 29 | D9: ='Year 2025'!D40 -> -3 | E9: ='Year 2025'!E40 -> 0.08 | F9: ='Year 2025'!F40 -> 0.5 | G9: =+'Year 2025'!G40 -> 0
A10: =+'Year 2025'!A41 -> 36 | B10: =+'Year 2025'!B41 -> 45693 | C10: ='Year 2025'!C41 -> 7 | D10: ='Year 2025'!D41 -> -3 | E10: ='Year 2025'!E41 -> 0 | F10: ='Year 2025'!F41 -> 0 | G10: =+'Year 2025'!G41 -> 0
A11: =+'Year 2025'!A42 -> 37 | B11: =+'Year 2025'!B42 -> 45694 | C11: ='Year 2025'!C42 -> 22 | D11: ='Year 2025'!D42 -> 2 | E11: ='Year 2025'!E42 -> 0.02 | F11: ='Year 2025'!F42 -> 0.1 | G11: =+'Year 2025'!G42 -> 0
A12: =+'Year 2025'!A43 -> 38 | B12: =+'Year 2025'!B43 -> 45695 | C12: ='Year 2025'!C43 -> 24 | D12: ='Year 2025'!D43 -> 4 | E12: ='Year 2025'!E43 -> 0 | F12: ='Year 2025'!F43 -> 0 | G12: =+'Year 2025'!G43 -> 0
A13: =+'Year 2025'!A44 -> 39 | B13: =+'Year 2025'!B44 -> 45696 | C13: ='Year 2025'!C44 -> 23 | D13: ='Year 2025'!D44 -> 5 | E13: ='Year 2025'!E44 -> 0.14 | F13: ='Year 2025'!F44 -> 4 | G13: =+'Year 2025'!G44 -> 0
A14: =+'Year 2025'!A45 -> 40 | B14: =+'Year 2025'!B45 -> 45697 | C14: ='Year 2025'!C45 -> 24 | D14: ='Year 2025'!D45 -> 2 | E14: ='Year 2025'!E45 -> 0.08 | F14: ='Year 2025'!F45 -> 1.4 | G14: =+'Year 2025'!G45 -> 0
A15: =+'Year 2025'!A46 -> 41 | B15: =+'Year 2025'!B46 -> 45698 | C15: ='Year 2025'!C46 -> 15 | D15: ='Year 2025'!D46 -> 0 | E15: ='Year 2025'!E46 -> 0 | F15: ='Year 2025'!F46 -> 0 | G15: =+'Year 2025'!G46 -> 0
A16: =+'Year 2025'!A47 -> 42 | B16: =+'Year 2025'!B47 -> 45699 | C16: ='Year 2025'!C47 -> 20 | D16: ='Year 2025'!D47 -> -5 | E16: ='Year 2025'!E47 -> 0 | F16: ='Year 2025'!F47 -> 0 | G16: =+'Year 2025'!G47 -> 0
A17: =+'Year 2025'!A48 -> 43 | B17: =+'Year 2025'!B48 -> 45700 | C17: ='Year 2025'!C48 -> 9 | D17: ='Year 2025'!D48 -> -4 | E17: ='Year 2025'!E48 -> 0 | F17: ='Year 2025'!F48 -> 0 | G17: =+'Year 2025'!G48 -> 0
... A32: =+'Year 2025'!A63 -> 58 | B32: =+'Year 2025'!B63 -> 45715 | C32: ='Year 2025'!C63 -> 44 | D32: ='Year 2025'!D63 -> 32 | E32: ='Year 2025'!E63 -> T | F32: ='Year 2025'!F63 -> 0 | G32: =+'Year 2025'!G63 -> 0
A33: 59 | B33: ='Year 2025'!B64 -> 45716 | C33: ='Year 2025'!C64 -> 45 | D33: ='Year 2025'!D64 -> 29 | E33: ='Year 2025'!E64 -> 0 | F33: ='Year 2025'!F64 -> 0 | G33: =+'Year 2025'!G64 -> 0
B35: AVG HIGH= | C35: =+C46 -> 24.071429 | D35: YR AVG= | E35: 26.9 | F35: DEV= | G35: =+C35-E35 -> -2.8285714
B36: AVG LOW= | C36: =+D46 -> 5.75 | D36: YR AVG= | E36: 6.5 | F36: DEV= | G36: =+C36-E36 -> -0.75
B37: AVG MON= | C37: =AVERAGE(C4:D34) -> 14.910714 | D37: YR AVG= | E37: 16.7 | F37: DEV= | G37: =+C37-E37 -> -1.7892857
B38: PRECIP= | C38: =+E46 -> 0.71 | D38: YR AVG= | E38: 0.87 | F38: DEV= | G38: =+C38-E38 -> -0.16
B39: SNOW= | C39: =+F46 -> 13 | D39: YR AVG= | E39: 8.8 | F39: DEV= | G39: =+C39-E39 -> 4.2
B40: G.G.D.= | C40: =+G46 -> 0 | D40: YR AVG= | F40: DEV= | G40: =+C40-E40 -> 0
B41: MAX TEMP= | C41: =MAX(C3:C34) -> 50 | D41: 45713
B42: MIN TEMP= | C42: =MIN(D3:D34) -> -18 | D42: 45706
C45: AVG HIGH | D45: AVG LOW | E45: PRECIP | F45: SNOW | G45: G.G.D.
C46: =AVERAGE(C6:C34) -> 24.071429 | D46: =AVERAGE(D4:D34) -> 5.75 | E46: =SUM(E4:E34) -> 0.71 | F46: =SUM(F4:F34) -> 13 | G46: =SUM(G4:G34) -> 0

Sheet MAR
B3: =JAN!B3 -> 2025 | C3: Weather Data
A5: LIST # | B5: Date | C5: High | D5: Low | E5: Precip | F5: Snow | G5: G.D.D. | I5: Avg High | J5: Avg Low | K5: Total Precip
A6: =+'Year 2025'!A65 -> 60 | B6: =+'Year 2025'!B65 -> 45717 | C6: =+'Year 2025'!C65 -> 47 | D6: =+'Year 2025'!D65 -> 9 | E6: =+'Year 2025'!E65 -> T | F6: =+'Year 2025'!F65 -> T | G6: =+'Year 2025'!G65 -> 0
A7: =+'Year 2025'!A66 -> 61 | B7: =+'Year 2025'!B66 -> 45718 | C7: =+'Year 2025'!C66 -> 24 | D7: =+'Year 2025'!D66 -> 8 | E7: =+'Year 2025'!E66 -> 0 | F7: =+'Year 2025'!F66 -> 0 | G7: =+'Year 2025'!G66 -> 0
A8: =+'Year 2025'!A67 -> 62 | B8: =+'Year 2025'!B67 -> 45719 | C8: =+'Year 2025'!C67 -> 35 | D8: =+'Year 2025'!D67 -> 16 | E8: =+'Year 2025'!E67 -> 0 | F8: =+'Year 2025'!F67 -> 0 | G8: =+'Year 2025'!G67 -> 0
A9: =+'Year 2025'!A68 -> 63 | B9: =+'Year 2025'!B68 -> 45720 | C9: =+'Year 2025'!C68 -> 43 | D9: =+'Year 2025'!D68 -> 28 | E9: =+'Year 2025'!E68 -> 0.17 | F9: =+'Year 2025'!F68 -> 0 | G9: =+'Year 2025'!G68 -> 0
A10: =+'Year 2025'!A69 -> 64 | B10: =+'Year 2025'!B69 -> 45721 | C10: =+'Year 2025'!C69 -> 44 | D10: =+'Year 2025'!D69 -> 31 | E10: =+'Year 2025'!E69 -> 0.73 | F10: =+'Year 2025'!F69 -> 0.2 | G10: =+'Year 2025'!G69 -> 0
A11: =+'Year 2025'!A70 -> 65 | B11: =+'Year 2025'!B70 -> 45722 | C11: =+'Year 2025'!C70 -> 31 | D11: =+'Year 2025'!D70 -> 16 | E11: =+'Year 2025'!E70 -> 0.12 | F11: =+'Year 2025'!F70 -> 2.2 | G11: =+'Year 2025'!G70 -> 0
A12: =+'Year 2025'!A71 -> 66 | B12: =+'Year 2025'!B71 -> 45723 | C12: =+'Year 2025'!C71 -> 37 | D12: =+'Year 2025'!D71 -> 18 | E12: =+'Year 2025'!E71 -> 0 | F12: =+'Year 2025'!F71 -> 0 | G12: =+'Year 2025'!G71 -> 0
A13: =+'Year 2025'!A72 -> 67 | B13: =+'Year 2025'!B72 -> 45724 | C13: =+'Year 2025'!C72 -> 41 | D13: =+'Year 2025'!D72 -> 16 | E13: =+'Year 2025'!E72 -> 0 | F13: =+'Year 2025'!F72 -> 0 | G13: =+'Year 2025'!G72 -> 0
A14: =+'Year 2025'!A73 -> 68 | B14: =+'Year 2025'!B73 -> 45725 | C14: =+'Year 2025'!C73 -> 50 | D14: =+'Year 2025'!D73 -> 25 | E14: =+'Year 2025'!E73 -> 0 | F14: =+'Year 2025'!F73 -> 0 | G14: =+'Year 2025'!G73 -> 0
A15: =+'Year 2025'!A74 -> 69 | B15: =+'Year 2025'!B74 -> 45726 | C15: =+'Year 2025'!C74 -> 59 | D15: =+'Year 2025'!D74 -> 29 | E15: =+'Year 2025'!E74 -> 0 | F15: =+'Year 2025'!F74 -> 0 | G15: =+'Year 2025'!G74 -> 0
A16: =+'Year 2025'!A75 -> 70 | B16: =+'Year 2025'!B75 -> 45727 | C16: =+'Year 2025'!C75 -> 64 | D16: =+'Year 2025'!D75 -> 30 | E16: =+'Year 2025'!E75 -> 0 | F16: =+'Year 2025'!F75 -> 0 | G16: =+'Year 2025'!G75 -> 0
A17: =+'Year 2025'!A76 -> 71 | B17: =+'Year 2025'!B76 -> 45728 | C17: =+'Year 2025'!C76 -> 46 | D17: =+'Year 2025'!D76 -> 28 | E17: =+'Year 2025'!E76 -> 0 | F17: =+'Year 2025'!F76 -> 0 | G17: =+'Year 2025'!G76 -> 0
... A36: =+'Year 2025'!A95 -> 90 | B36: =+'Year 2025'!B95 -> 45747 | C36: =+'Year 2025'!C95 -> 33 | D36: =+'Year 2025'!D95 -> 23 | E36: =+'Year 2025'!E95 -> 0.56 | F36: =+'Year 2025'!F95 -> 2 | G36: =+'Year 2025'!G95 -> 0
C37: =+C48 -> 44.741935 | D37: YR AVG= | E37: 37.2 | F37: DEV= | G37: =+C37-E37 -> 7.5419355
B38: AVG HIGH= | C38: =+D48 -> 24.064516 | D38: YR AVG= | E38: 17.6 | F38: DEV= | G38: =+C38-E38 -> 6.4645161
B39: AVG LOW= | C39: =AVERAGE(C6:D36) -> 34.403226 | D39: YR AVG= | E39: 27.4 | F39: DEV= | G39: =+C39-E39 -> 7.0032258
B40: AVG MON= | C40: =+E48 -> 4.94 | D40: YR AVG= | E40: 1.82 | F40: DEV= | G40: =+C40-E40 -> 3.12
B41: PRECIP= | C41: =+F48 -> 18.9 | D41: YR AVG= | E41: 10.3 | F41: DEV= | G41: =+C41-E41 -> 8.6
B42: SNOW= | C42: =+G48 -> 0 | D42: YR AVG= | F42: DEV= | G42: =+C42-E42 -> 0
B43: G.G.D.= | C43: =MAX(C6:C36) -> 73 | D43: 45731
B44: MAX TEMP= | C44: =MIN(D6:D36) -> 8 | D44: 45718
B45: MIN TEMP=
C47: AVG HIGH | D47: AVG LOW | E47: PRECIP | F47: SNOW | G47: G.G.D.
C48: =AVERAGE(C6:C36) -> 44.741935 | D48: =AVERAGE(D6:D36) -> 24.064516 | E48: =SUM(E6:E36) -> 4.94 | F48: =SUM(F6:F36) -> 18.9 | G48: =SUM(G6:G36) -> 0

Sheet APR
B3: =JAN!B3 -> 2025 | C3: Weather Data
A5: LIST # | B5: Date | C5: High | D5: Low | E5: Precip | F5: Snow | G5: G.D.D. | I5: Avg High | J5: Avg Low | K5: Total Precip
A6: =+'Year 2025'!A96 -> 91 | B6: =+'Year 2025'!B96 -> 45748 | C6: =+'Year 2025'!C96 -> 40 | D6: =+'Year 2025'!D96 -> 24 | E6: =+'Year 2025'!E96 -> 0 | F6: =+'Year 2025'!F96 -> 0 | G6: =+'Year 2025'!G96 -> 0
A7: =+'Year 2025'!A97 -> 92 | B7: =+'Year 2025'!B97 -> 45749 | C7: =+'Year 2025'!C97 -> 38 | D7: =+'Year 2025'!D97 -> 26 | E7: =+'Year 2025'!E97 -> 0.23 | F7: =+'Year 2025'!F97 -> 2 | G7: =+'Year 2025'!G97 -> 0
A8: =+'Year 2025'!A98 -> 93 | B8: =+'Year 2025'!B98 -> 45750 | C8: =+'Year 2025'!C98 -> 42 | D8: =+'Year 2025'!D98 -> 31 | E8: =+'Year 2025'!E98 -> 0.28 | F8: =+'Year 2025'!F98 -> 0 | G8: =+'Year 2025'!G98 -> 0
A9: =+'Year 2025'!A99 -> 94 | B9: =+'Year 2025'!B99 -> 45751 | C9: =+'Year 2025'!C99 -> 46 | D9: =+'Year 2025'!D99 -> 29 | E9: =+'Year 2025'!E99 -> 0 | F9: =+'Year 2025'!F99 -> 0 | G9: =+'Year 2025'!G99 -> 0
A10: =+'Year 2025'!A100 -> 95 | B10: =+'Year 2025'!B100 -> 45752 | C10: =+'Year 2025'!C100 -> 48 | D10: =+'Year 2025'!D100 -> 32 | E10: =+'Year 2025'!E100 -> 0 | F10: =+'Year 2025'!F100 -> 0 | G10: =+'Year 2025'!G100 -> 0
A11: =+'Year 2025'!A101 -> 96 | B11: =+'Year 2025'!B101 -> 45753 | C11: =+'Year 2025'!C101 -> 45 | D11: =+'Year 2025'!D101 -> 24 | E11: =+'Year 2025'!E101 -> 0 | F11: =+'Year 2025'!F101 -> 0 | G11: =+'Year 2025'!G101 -> 0
A12: =+'Year 2025'!A102 -> 97 | B12: =+'Year 2025'!B102 -> 45754 | C12: =+'Year 2025'!C102 -> 51 | D12: =+'Year 2025'!D102 -> 27 | E12: =+'Year 2025'!E102 -> 0 | F12: =+'Year 2025'!F102 -> 0 | G12: =+'Year 2025'!G102 -> 0.5
A13: =+'Year 2025'!A103 -> 98 | B13: =+'Year 2025'!B103 -> 45755 | C13: =+'Year 2025'!C103 -> 35 | D13: =+'Year 2025'!D103 -> 17 | E13: =+'Year 2025'!E103 -> 0 | F13: =+'Year 2025'!F103 -> 0 | G13: =+'Year 2025'!G103 -> 0
A14: =+'Year 2025'!A104 -> 99 | B14: =+'Year 2025'!B104 -> 45756 | C14: =+'Year 2025'!C104 -> 44 | D14: =+'Year 2025'!D104 -> 22 | E14: =+'Year 2025'!E104 -> 0 | F14: =+'Year 2025'!F104 -> 0 | G14: =+'Year 2025'!G104 -> 0
A15: =+'Year 2025'!A105 -> 100 | B15: =+'Year 2025'!B105 -> 45757 | C15: =+'Year 2025'!C105 -> 49 | D15: =+'Year 2025'!D105 -> 32 | E15: =+'Year 2025'!E105 -> 0.13 | F15: =+'Year 2025'!F105 -> 0 | G15: =+'Year 2025'!G105 -> 0
A16: =+'Year 2025'!A106 -> 101 | B16: =+'Year 2025'!B106 -> 45758 | C16: =+'Year 2025'!C106 -> 40 | D16: =+'Year 2025'!D106 -> 31 | E16: =+'Year 2025'!E106 -> 0.01 | F16: =+'Year 2025'!F106 -> 0 | G16: =+'Year 2025'!G106 -> 0
A17: =+'Year 2025'!A107 -> 102 | B17: =+'Year 2025'!B107 -> 45759 | C17: =+'Year 2025'!C107 -> 56 | D17: =+'Year 2025'!D107 -> 30 | E17: =+'Year 2025'!E107 -> 0 | F17: =+'Year 2025'!F107 -> 0 | G17: =+'Year 2025'!G107 -> 3
... A35: =+'Year 2025'!A125 -> 120 | B35: =+'Year 2025'!B125 -> 45777 | C35: =+'Year 2025'!C125 -> 54 | D35: =+'Year 2025'!D125 -> 35 | E35: =+'Year 2025'!E125 -> 0.01 | F35: =+'Year 2025'!F125 -> 0 | G35: =+'Year 2025'!G125 -> 2
B36: AVG HIGH= | C36: =+C47 -> 51.933333 | D36: YR AVG= | E36: 54.7 | F36: DEV= | G36: =+C36-E36 -> -2.7666667
B37: AVG LOW= | C37: =+D47 -> 33.266667 | D37: YR AVG= | E37: 32.2 | F37: DEV= | G37: =+C37-E37 -> 1.0666667
B38: AVG MON= | C38: =AVERAGE(C5:D35) -> 42.6 | D38: YR AVG= | E38: 43.5 | F38: DEV= | G38: =+C38-E38 -> -0.9
B39: PRECIP= | C39: =+E47 -> 4.61 | D39: YR AVG= | E39: 3.02 | F39: DEV= | G39: =+C39-E39 -> 1.59
B40: SNOW= | C40: =+F47 -> 2 | D40: YR AVG= | E40: 2.8 | F40: DEV= | G40: =+C40-E40 -> -0.8
B41: G.G.D.= | C41: =+G47 -> 56.5 | D41: YR AVG= | E41: 155 | F41: DEV= | G41: =+C41-E41 -> -98.5
B42: MAX TEMP= | C42: =MAX(C5:C35) -> 72 | D42: 45776
B43: MIN TEMP= | C43: =MIN(D5:D35) -> 17 | D43: 45755
C46: AVG HIGH | D46: AVG LOW | E46: PRECIP | F46: SNOW | G46: G.G.D.
C47: =AVERAGE(C5:C35) -> 51.933333 | D47: =AVERAGE(D5:D35) -> 33.266667 | E47: =SUM(E5:E35) -> 4.61 | F47: =SUM(F5:F35) -> 2 | G47: =SUM(G5:G35) -> 56.5

Sheet MAY
B3: =JAN!B3 -> 2025 | C3: Weather Data
A5: LIST # | B5: Date | C5: High | D5: Low | E5: Precip | F5: Snow | G5: G.D.D. | I5: Avg High | J5: Avg Low | K5: Total Precip
A6: =+'Year 2025'!A126 -> 121 | B6: =+'Year 2025'!B126 -> 45778 | C6: =+'Year 2025'!C126 -> 63 | D6: =+'Year 2025'!D126 -> 35 | E6: =+'Year 2025'!E126 -> 0.02 | F6: =+'Year 2025'!F126 -> 0 | G6: =+'Year 2025'!G126 -> 6.5
A7: =+'Year 2025'!A127 -> 122 | B7: =+'Year 2025'!B127 -> 45779 | C7: =+'Year 2025'!C127 -> 49 | D7: =+'Year 2025'!D127 -> 42 | E7: =+'Year 2025'!E127 -> 0.41 | F7: =+'Year 2025'!F127 -> 0 | G7: =+'Year 2025'!G127 -> 0
A8: =+'Year 2025'!A128 -> 123 | B8: =+'Year 2025'!B128 -> 45780 | C8: =+'Year 2025'!C128 -> 48 | D8: =+'Year 2025'!D128 -> 41 | E8: =+'Year 2025'!E128 -> 0.11 | F8: =+'Year 2025'!F128 -> 0 | G8: =+'Year 2025'!G128 -> 0
A9: =+'Year 2025'!A129 -> 124 | B9: =+'Year 2025'!B129 -> 45781 | C9: =+'Year 2025'!C129 -> 60 | D9: =+'Year 2025'!D129 -> 42 | E9: =+'Year 2025'!E129 -> 0 | F9: =+'Year 2025'!F129 -> 0 | G9: =+'Year 2025'!G129 -> 5
A10: =+'Year 2025'!A130 -> 125 | B10: =+'Year 2025'!B130 -> 45782 | C10: =+'Year 2025'!C130 -> 70 | D10: =+'Year 2025'!D130 -> 42 | E10: =+'Year 2025'!E130 -> 0 | F10: =+'Year 2025'!F130 -> 0 | G10: =+'Year 2025'!G130 -> 10
A11: =+'Year 2025'!A131 -> 126 | B11: =+'Year 2025'!B131 -> 45783 | C11: =+'Year 2025'!C131 -> 68 | D11: =+'Year 2025'!D131 -> 44 | E11: =+'Year 2025'!E131 -> 0 | F11: =+'Year 2025'!F131 -> 0 | G11: =+'Year 2025'!G131 -> 9
A12: =+'Year 2025'!A132 -> 127 | B12: =+'Year 2025'!B132 -> 45784 | C12: =+'Year 2025'!C132 -> 80 | D12: =+'Year 2025'!D132 -> 50 | E12: =+'Year 2025'!E132 -> 0 | F12: =+'Year 2025'!F132 -> 0 | G12: =+'Year 2025'!G132 -> 15
A13: =+'Year 2025'!A133 -> 128 | B13: =+'Year 2025'!B133 -> 45785 | C13: =+'Year 2025'!C133 -> 65 | D13: =+'Year 2025'!D133 -> 37 | E13: =+'Year 2025'!E133 -> 0 | F13: =+'Year 2025'!F133 -> 0 | G13: =+'Year 2025'!G133 -> 7.5
A14: =+'Year 2025'!A134 -> 129 | B14: =+'Year 2025'!B134 -> 45786 | C14: =+'Year 2025'!C134 -> 64 | D14: =+'Year 2025'!D134 -> 37 | E14: =+'Year 2025'!E134 -> 0 | F14: =+'Year 2025'!F134 -> 0 | G14: =+'Year 2025'!G134 -> 7
A15: =+'Year 2025'!A135 -> 130 | B15: =+'Year 2025'!B135 -> 45787 | C15: =+'Year 2025'!C135 -> 73 | D15: =+'Year 2025'!D135 -> 46 | E15: =+'Year 2025'!E135 -> 0 | F15: =+'Year 2025'!F135 -> 0 | G15: =+'Year 2025'!G135 -> 11.5
A16: =+'Year 2025'!A136 -> 131 | B16: =+'Year 2025'!B136 -> 45788 | C16: =+'Year 2025'!C136 -> 70 | D16: =+'Year 2025'!D136 -> 41 | E16: =+'Year 2025'!E136 -> 0 | F16: =+'Year 2025'!F136 -> 0 | G16: =+'Year 2025'!G136 -> 10
A17: =+'Year 2025'!A137 -> 132 | B17: =+'Year 2025'!B137 -> 45789 | C17: =+'Year 2025'!C137 -> 77 | D17: =+'Year 2025'!D137 -> 46 | E17: =+'Year 2025'!E137 -> 0 | F17: =+'Year 2025'!F137 -> 0 | G17: =+'Year 2025'!G137 -> 13.5
... A36: =+'Year 2025'!A156 -> 151 | B36: =+'Year 2025'!B156 -> 45808 | C36: =+'Year 2025'!C156 -> 75 | D36: =+'Year 2025'!D156 -> 49 | E36: =+'Year 2025'!E156 -> 0 | F36: =+'Year 2025'!F156 -> 0 | G36: =+'Year 2025'!G156 -> 12.5
B37: AVG HIGH= | C37: =+C48 -> 65.645161 | D37: YR AVG= | E37: 68 | F37: DEV= | G37: =+C37-E37 -> -2.3548387
B38: AVG LOW= | C38: =+D48 -> 44.580645 | D38: YR AVG= | E38: 42.6 | F38: DEV= | G38: =+C38-E38 -> 1.9806452
B39: AVG MON= | C39: =AVERAGE(C6:D36) -> 55.112903 | D39: YR AVG= | E39: 55.3 | F39: DEV= | G39: =+C39-E39 -> -0.18709677
B40: PRECIP= | C40: =+E48 -> 1.73 | D40: YR AVG= | E40: 4.33 | F40: DEV= | G40: =+C40-E40 -> -2.6
B41: SNOW= | C41: =+F48 -> 0 | D41: YR AVG= | E41: 0 | F41: DEV= | G41: =+C41-E41 -> 0
B42: G.G.D.= | C42: =+G48 -> 260 | D42: YR AVG= | E42: 290 | F42: DEV= | G42: =+C42-E42 -> -30
B43: MAX TEMP= | C43: =MAX(C6:C36) -> 82 | D43: 45793
B44: MIN TEMP= | C44: =MIN(D6:D36) -> 35 | D44: 45778
C47: AVG HIGH | D47: AVG LOW | E47: PRECIP | F47: SNOW | G47: G.G.D.
C48: =AVERAGE(C6:C36) -> 65.645161 | D48: =AVERAGE(D6:D36) -> 44.580645 | E48: =SUM(E6:E36) -> 1.73 | F48: =SUM(F6:F36) -> 0 | G48: =SUM(G6:G36) -> 260

Sheet JUNE
B3: =JAN!B3 -> 2025 | C3: Weather Data
A5: LIST # | B5: Date | C5: High | D5: Low | E5: Precip | F5: Snow | G5: G.D.D. | I5: Avg High | J5: Avg Low | K5: Total Precip
A6: =+'Year 2025'!A157 -> 152 | B6: =+'Year 2025'!B157 -> 45809 | C6: =+'Year 2025'!C157 -> 71 | D6: =+'Year 2025'!D157 -> 41 | E6: =+'Year 2025'!E157 -> 0 | F6: =+'Year 2025'!F157 -> 0 | G6: =+'Year 2025'!G157 -> 10.5
A7: =+'Year 2025'!A158 -> 153 | B7: =+'Year 2025'!B158 -> 45810 | C7: =+'Year 2025'!C158 -> 73 | D7: =+'Year 2025'!D158 -> 50 | E7: =+'Year 2025'!E158 -> 0 | F7: =+'Year 2025'!F158 -> 0 | G7: =+'Year 2025'!G158 -> 11.5
A8: =+'Year 2025'!A159 -> 154 | B8: =+'Year 2025'!B159 -> 45811 | C8: =+'Year 2025'!C159 -> 83 | D8: =+'Year 2025'!D159 -> 57 | E8: =+'Year 2025'!E159 -> 0 | F8: =+'Year 2025'!F159 -> 0 | G8: =+'Year 2025'!G159 -> 20
A9: =+'Year 2025'!A160 -> 155 | B9: =+'Year 2025'!B160 -> 45812 | C9: =+'Year 2025'!C160 -> 75 | D9: =+'Year 2025'!D160 -> 52 | E9: =+'Year 2025'!E160 -> 0.65 | F9: =+'Year 2025'!F160 -> 0 | G9: =+'Year 2025'!G160 -> 13.5
A10: =+'Year 2025'!A161 -> 156 | B10: =+'Year 2025'!B161 -> 45813 | C10: =+'Year 2025'!C161 -> 75 | D10: =+'Year 2025'!D161 -> 49 | E10: =+'Year 2025'!E161 -> 0 | F10: =+'Year 2025'!F161 -> 0 | G10: =+'Year 2025'!G161 -> 12.5
A11: =+'Year 2025'!A162 -> 157 | B11: =+'Year 2025'!B162 -> 45814 | C11: =+'Year 2025'!C162 -> 77 | D11: =+'Year 2025'!D162 -> 56 | E11: =+'Year 2025'!E162 -> 0.1 | F11: =+'Year 2025'!F162 -> 0 | G11: =+'Year 2025'!G162 -> 16.5
A12: =+'Year 2025'!A163 -> 158 | B12: =+'Year 2025'!B163 -> 45815 | C12: =+'Year 2025'!C163 -> 68 | D12: =+'Year 2025'!D163 -> 57 | E12: =+'Year 2025'!E163 -> 0 | F12: =+'Year 2025'!F163 -> 0 | G12: =+'Year 2025'!G163 -> 12.5
A13: =+'Year 2025'!A164 -> 159 | B13: =+'Year 2025'!B164 -> 45816 | C13: =+'Year 2025'!C164 -> 72 | D13: =+'Year 2025'!D164 -> 56 | E13: =+'Year 2025'!E164 -> 0.37 | F13: =+'Year 2025'!F164 -> 0 | G13: =+'Year 2025'!G164 -> 14
A14: =+'Year 2025'!A165 -> 160 | B14: =+'Year 2025'!B165 -> 45817 | C14: =+'Year 2025'!C165 -> 70 | D14: =+'Year 2025'!D165 -> 49 | E14: =+'Year 2025'!E165 -> 0.11 | F14: =+'Year 2025'!F165 -> 0 | G14: =+'Year 2025'!G165 -> 10
A15: =+'Year 2025'!A166 -> 161 | B15: =+'Year 2025'!B166 -> 45818 | C15: =+'Year 2025'!C166 -> 62 | D15: =+'Year 2025'!D166 -> 50 | E15: =+'Year 2025'!E166 -> 0.16 | F15: =+'Year 2025'!F166 -> 0 | G15: =+'Year 2025'!G166 -> 6
A16: =+'Year 2025'!A167 -> 162 | B16: =+'Year 2025'!B167 -> 45819 | C16: =+'Year 2025'!C167 -> 69 | D16: =+'Year 2025'!D167 -> 54 | E16: =+'Year 2025'!E167 -> T | F16: =+'Year 2025'!F167 -> 0 | G16: =+'Year 2025'!G167 -> 11.5
A17: =+'Year 2025'!A168 -> 163 | B17: =+'Year 2025'!B168 -> 45820 | C17: =+'Year 2025'!C168 -> 78 | D17: =+'Year 2025'!D168 -> 54 | E17: =+'Year 2025'!E168 -> 0 | F17: =+'Year 2025'!F168 -> 0 | G17: =+'Year 2025'!G168 -> 16
... A35: =+'Year 2025'!A186 -> 181 | B35: =+'Year 2025'!B186 -> 45838 | C35: =+'Year 2025'!C186 -> 84 | D35: =+'Year 2025'!D186 -> 63 | E35: =+'Year 2025'!E186 -> 0.01 | F35: =+'Year 2025'!F186 -> 0 | G35: =+'Year 2025'!G186 -> 23.5
B36: AVG HIGH= | C36: =+C47 -> 74.333333 | D36: YR AVG= | E36: 76.2 | F36: DEV= | G36: =+C36-E36 -> -1.8666667
B37: AVG LOW= | C37: =+D47 -> 57.333333 | D37: YR AVG= | E37: 51.9 | F37: DEV= | G37: =+C37-E37 -> 5.4333333
B38: AVG MON= | C38: =AVERAGE(C6:D35) -> 65.833333 | D38: YR AVG= | E38: 64 | F38: DEV= | G38: =+C38-E38 -> 1.8333333
B39: PRECIP= | C39: =+E47 -> 5.13 | D39: YR AVG= | E39: 4.11 | F39: DEV= | G39: =+C39-E39 -> 1.02
B40: SNOW= | C40: =+F47 -> 0 | D40: YR AVG= | E40: 0 | F40: DEV= | G40: =+C40-E40 -> 0
B41: G.G.D.= | C41: =+G47 -> 476 | D41: YR AVG= | E41: 529 | F41: DEV= | G41: =+C41-E41 -> -53
B42: MAX TEMP= | C42: =MAX(C6:C35) -> 92 | D42: 6/22,23/25
B43: MIN TEMP= | C43: =MIN(D6:D35) -> 41 | D43: 45809
C46: AVG HIGH | D46: AVG LOW | E46: PRECIP | F46: SNOW | G46: G.G.D.
C47: =AVERAGE(C6:C35) -> 74.333333 | D47: =AVERAGE(D6:D35) -> 57.333333 | E47: =SUM(E6:E35) -> 5.13 | F47: =SUM(F6:F35) -> 0 | G47: =SUM(G6:G35) -> 476

Sheet JULY
B3: =JAN!B3 -> 2025 | C3: Weather Data
A5: LIST # | B5: Date | C5: High | D5: Low | E5: Precip | F5: Snow | G5: G.D.D. | I5: Avg High | J5: Avg Low | K5: Total Precip
A6: =+'Year 2025'!A187 -> 182 | B6: =+'Year 2025'!B187 -> 45839 | C6: =+'Year 2025'!C187 -> 81 | D6: =+'Year 2025'!D187 -> 60 | E6: =+'Year 2025'!E187 -> 0.03 | F6: =+'Year 2025'!F187 -> 0 | G6: =+'Year 2025'!G187 -> 20.5
A7: =+'Year 2025'!A188 -> 183 | B7: =+'Year 2025'!B188 -> 45840 | C7: =+'Year 2025'!C188 -> 82 | D7: =+'Year 2025'!D188 -> 60 | E7: =+'Year 2025'!E188 -> 0 | F7: =+'Year 2025'!F188 -> 0 | G7: =+'Year 2025'!G188 -> 21
A8: =+'Year 2025'!A189 -> 184 | B8: =+'Year 2025'!B189 -> 45841 | C8: =+'Year 2025'!C189 -> 85 | D8: =+'Year 2025'!D189 -> 61 | E8: =+'Year 2025'!E189 -> 0 | F8: =+'Year 2025'!F189 -> 0 | G8: =+'Year 2025'!G189 -> 23
A9: =+'Year 2025'!A190 -> 185 | B9: =+'Year 2025'!B190 -> 45842 | C9: =+'Year 2025'!C190 -> 86 | D9: =+'Year 2025'!D190 -> 64 | E9: =+'Year 2025'!E190 -> 0.12 | F9: =+'Year 2025'!F190 -> 0 | G9: =+'Year 2025'!G190 -> 25
A10: =+'Year 2025'!A191 -> 186 | B10: =+'Year 2025'!B191 -> 45843 | C10: =+'Year 2025'!C191 -> 87 | D10: =+'Year 2025'!D191 -> 68 | E10: =+'Year 2025'!E191 -> 0 | F10: =+'Year 2025'!F191 -> 0 | G10: =+'Year 2025'!G191 -> 27
A11: =+'Year 2025'!A192 -> 187 | B11: =+'Year 2025'!B192 -> 45844 | C11: =+'Year 2025'!C192 -> 83 | D11: =+'Year 2025'!D192 -> 67 | E11: =+'Year 2025'!E192 -> 0.57 | F11: =+'Year 2025'!F192 -> 0 | G11: =+'Year 2025'!G192 -> 25
A12: =+'Year 2025'!A193 -> 188 | B12: =+'Year 2025'!B193 -> 45845 | C12: =+'Year 2025'!C193 -> 83 | D12: =+'Year 2025'!D193 -> 60 | E12: =+'Year 2025'!E193 -> 0 | F12: =+'Year 2025'!F193 -> 0 | G12: =+'Year 2025'!G193 -> 21.5
A13: =+'Year 2025'!A194 -> 189 | B13: =+'Year 2025'!B194 -> 45846 | C13: =+'Year 2025'!C194 -> 76 | D13: =+'Year 2025'!D194 -> 61 | E13: =+'Year 2025'!E194 -> 0.22 | F13: =+'Year 2025'!F194 -> 0 | G13: =+'Year 2025'!G194 -> 18.5
A14: =+'Year 2025'!A195 -> 190 | B14: =+'Year 2025'!B195 -> 45847 | C14: =+'Year 2025'!C195 -> 83 | D14: =+'Year 2025'!D195 -> 60 | E14: =+'Year 2025'!E195 -> 0 | F14: =+'Year 2025'!F195 -> 0 | G14: =+'Year 2025'!G195 -> 21.5
A15: =+'Year 2025'!A196 -> 191 | B15: =+'Year 2025'!B196 -> 45848 | C15: =+'Year 2025'!C196 -> 80 | D15: =+'Year 2025'!D196 -> 60 | E15: =+'Year 2025'!E196 -> 0 | F15: =+'Year 2025'!F196 -> 0 | G15: =+'Year 2025'!G196 -> 20
A16: =+'Year 2025'!A197 -> 192 | B16: =+'Year 2025'!B197 -> 45849 | C16: =+'Year 2025'!C197 -> 78 | D16: =+'Year 2025'!D197 -> 63 | E16: =+'Year 2025'!E197 -> T | F16: =+'Year 2025'!F197 -> 0 | G16: =+'Year 2025'!G197 -> 20.5
A17: =+'Year 2025'!A198 -> 193 | B17: =+'Year 2025'!B198 -> 45850 | C17: =+'Year 2025'!C198 -> 77 | D17: =+'Year 2025'!D198 -> 64 | E17: =+'Year 2025'!E198 -> 0.43 | F17: =+'Year 2025'!F198 -> 0 | G17: =+'Year 2025'!G198 -> 20.5
... A36: =+'Year 2025'!A217 -> 212 | B36: =+'Year 2025'!B217 -> 45869 | C36: =+'Year 2025'!C217 -> 76 | D36: =+'Year 2025'!D217 -> 54 | E36: =+'Year 2025'!E217 -> 0 | F36: =+'Year 2025'!F217 -> 0 | G36: =+'Year 2025'!G217 -> 15
B37: AVG HIGH= | C37: =+C48 -> 81 | D37: YR AVG= | E37: 80.7 | F37: DEV= | G37: =+C37-E37 -> 0.3
B38: AVG LOW= | C38: =+D48 -> 61.516129 | D38: YR AVG= | E38: 56.2 | F38: DEV= | G38: =+C38-E38 -> 5.316129
B39: AVG MON= | C39: =AVERAGE(C6:D36) -> 71.258065 | D39: YR AVG= | E39: 68.5 | F39: DEV= | G39: =+C39-E39 -> 2.7580645
B40: PRECIP= | C40: =+E48 -> 3.7 | D40: YR AVG= | E40: 3.79 | F40: DEV= | G40: =+C40-E40 -> -0.09
B41: SNOW= | C41: =+F48 -> 0 | D41: YR AVG= | E41: 0 | F41: DEV= | G41: =+C41-E41 -> 0
B42: G.G.D.= | C42: =+G48 -> 657 | D42: YR AVG= | E42: 594 | F42: DEV= | G42: =+C42-E42 -> 63
B43: MAX TEMP= | C43: =MAX(C6:C36) -> 88 | D43: 45867
B44: MIN TEMP= | C44: =MIN(D6:D36) -> 51 | D44: 7/17,18/25
C47: AVG HIGH | D47: AVG LOW | E47: PRECIP | F47: SNOW | G47: G.G.D.
C48: =AVERAGE(C6:C36) -> 81 | D48: =AVERAGE(D6:D36) -> 61.516129 | E48: =SUM(E6:E36) -> 3.7 | F48: =SUM(F6:F36) -> 0 | G48: =SUM(G6:G36) -> 657

Sheet AUG
B3: =JAN!B3 -> 2025 | C3: Weather Data
A5: LIST # | B5: Date | C5: High | D5: Low | E5: Precip | F5: Snow | G5: G.D.D. | I5: Avg High | J5: Avg Low | K5: Total Precip
A6: =+'Year 2025'!A218 -> 213 | B6: =+'Year 2025'!B218 -> 45870 | C6: =+'Year 2025'!C218 -> 74 | D6: =+'Year 2025'!D218 -> 51 | E6: =+'Year 2025'!E218 -> 0 | F6: =+'Year 2025'!F218 -> 0 | G6: =+'Year 2025'!G218 -> 12.5
A7: =+'Year 2025'!A219 -> 214 | B7: =+'Year 2025'!B219 -> 45871 | C7: =+'Year 2025'!C219 -> 76 | D7: =+'Year 2025'!D219 -> 53 | E7: =+'Year 2025'!E219 -> 0 | F7: =+'Year 2025'!F219 -> 0 | G7: =+'Year 2025'!G219 -> 14.5
A8: =+'Year 2025'!A220 -> 215 | B8: =+'Year 2025'!B220 -> 45872 | C8: =+'Year 2025'!C220 -> 76 | D8: =+'Year 2025'!D220 -> 54 | E8: =+'Year 2025'!E220 -> 0 | F8: =+'Year 2025'!F220 -> 0 | G8: =+'Year 2025'!G220 -> 15
A9: =+'Year 2025'!A221 -> 216 | B9: =+'Year 2025'!B221 -> 45873 | C9: =+'Year 2025'!C221 -> 76 | D9: =+'Year 2025'!D221 -> 57 | E9: =+'Year 2025'!E221 -> 0 | F9: =+'Year 2025'!F221 -> 0 | G9: =+'Year 2025'!G221 -> 16.5
A10: =+'Year 2025'!A222 -> 217 | B10: =+'Year 2025'!B222 -> 45874 | C10: =+'Year 2025'!C222 -> 77 | D10: =+'Year 2025'!D222 -> 55 | E10: =+'Year 2025'!E222 -> 0 | F10: =+'Year 2025'!F222 -> 0 | G10: =+'Year 2025'!G222 -> 16
A11: =+'Year 2025'!A223 -> 218 | B11: =+'Year 2025'!B223 -> 45875 | C11: =+'Year 2025'!C223 -> 80 | D11: =+'Year 2025'!D223 -> 57 | E11: =+'Year 2025'!E223 -> 0 | F11: =+'Year 2025'!F223 -> 0 | G11: =+'Year 2025'!G223 -> 18.5
A12: =+'Year 2025'!A224 -> 219 | B12: =+'Year 2025'!B224 -> 45876 | C12: =+'Year 2025'!C224 -> 80 | D12: =+'Year 2025'!D224 -> 61 | E12: =+'Year 2025'!E224 -> 0 | F12: =+'Year 2025'!F224 -> 0 | G12: =+'Year 2025'!G224 -> 20.5
A13: =+'Year 2025'!A225 -> 220 | B13: =+'Year 2025'!B225 -> 45877 | C13: =+'Year 2025'!C225 -> 84 | D13: =+'Year 2025'!D225 -> 66 | E13: =+'Year 2025'!E225 -> 0 | F13: =+'Year 2025'!F225 -> 0 | G13: =+'Year 2025'!G225 -> 25
A14: =+'Year 2025'!A226 -> 221 | B14: =+'Year 2025'!B226 -> 45878 | C14: =+'Year 2025'!C226 -> 86 | D14: =+'Year 2025'!D226 -> 70 | E14: =+'Year 2025'!E226 -> 0 | F14: =+'Year 2025'!F226 -> 0 | G14: =+'Year 2025'!G226 -> 28
A15: =+'Year 2025'!A227 -> 222 | B15: =+'Year 2025'!B227 -> 45879 | C15: =+'Year 2025'!C227 -> 71 | D15: =+'Year 2025'!D227 -> 63 | E15: =+'Year 2025'!E227 -> 1.19 | F15: =+'Year 2025'!F227 -> 0 | G15: =+'Year 2025'!G227 -> 17
A16: =+'Year 2025'!A228 -> 223 | B16: =+'Year 2025'!B228 -> 45880 | C16: =+'Year 2025'!C228 -> 76 | D16: =+'Year 2025'!D228 -> 65 | E16: =+'Year 2025'!E228 -> 0 | F16: =+'Year 2025'!F228 -> 0 | G16: =+'Year 2025'!G228 -> 20.5
A17: =+'Year 2025'!A229 -> 224 | B17: =+'Year 2025'!B229 -> 45881 | C17: =+'Year 2025'!C229 -> 78 | D17: =+'Year 2025'!D229 -> 66 | E17: =+'Year 2025'!E229 -> 0 | F17: =+'Year 2025'!F229 -> 0 | G17: =+'Year 2025'!G229 -> 22
... A36: =+'Year 2025'!A248 -> 243 | B36: =+'Year 2025'!B248 -> 45900 | C36: =+'Year 2025'!C248 -> 72 | D36: =+'Year 2025'!D248 -> 48 | E36: =+'Year 2025'!E248 -> 0 | F36: =+'Year 2025'!F248 -> 0 | G36: =+'Year 2025'!G248 -> 11
B37: AVG HIGH= | C37: =+C48 -> 75.451613 | D37: YR AVG= | E37: 78.5 | F37: DEV= | G37: =+C37-E37 -> -3.0483871
B38: AVG LOW= | C38: =+D48 -> 56.774194 | D38: YR AVG= | E38: 53.8 | F38: DEV= | G38: =+C38-E38 -> 2.9741935
B39: AVG MON= | C39: =AVERAGE(C6:D36) -> 66.112903 | D39: YR AVG= | E39: 66.2 | F39: DEV= | G39: =+C39-E39 -> -0.087096774
B40: PRECIP= | C40: =+E48 -> 3 | D40: YR AVG= | E40: 4.07 | F40: DEV= | G40: =+C40-E40 -> -1.07
B41: SNOW= | C41: =+F48 -> 0 | D41: YR AVG= | E41: 0 | F41: DEV= | G41: =+C41-E41 -> 0
B42: G.G.D.= | C42: =+G48 -> 506.5 | D42: YR AVG= | E42: 559 | F42: DEV= | G42: =+C42-E42 -> -52.5
B43: MAX TEMP= | C43: =MAX(C6:C36) -> 86 | D43: 8/9,16/25
B44: MIN TEMP= | C44: =MIN(D6:D36) -> 47 | D44: 8/25,26,29/25
C47: AVG HIGH | D47: AVG LOW | E47: PRECIP | F47: SNOW | G47: G.G.D.
C48: =AVERAGE(C6:C36) -> 75.451613 | D48: =AVERAGE(D6:D36) -> 56.774194 | E48: =SUM(E6:E36) -> 3 | F48: =SUM(F6:F36) -> 0 | G48: =SUM(G6:G36) -> 506.5

Sheet SEPT
B3: =JAN!B3 -> 2025 | C3: Weather Data
A5: LIST # | B5: Date | C5: High | D5: Low | E5: Precip | F5: Snow | G5: G.D.D. | I5: Avg High | J5: Avg Low | K5: Total Precip
A6: =+'Year 2025'!A249 -> 244 | B6: =+'Year 2025'!B249 -> 45901 | C6: =+'Year 2025'!C249 -> 74 | D6: =+'Year 2025'!D249 -> 50 | E6: =+'Year 2025'!E249 -> 0 | F6: =+'Year 2025'!F249 -> 0 | G6: =+'Year 2025'!G249 -> 12
A7: =+'Year 2025'!A250 -> 245 | B7: =+'Year 2025'!B250 -> 45902 | C7: =+'Year 2025'!C250 -> 74 | D7: =+'Year 2025'!D250 -> 50 | E7: =+'Year 2025'!E250 -> 0 | F7: =+'Year 2025'!F250 -> 0 | G7: =+'Year 2025'!G250 -> 12
A8: =+'Year 2025'!A251 -> 246 | B8: =+'Year 2025'!B251 -> 45903 | C8: =+'Year 2025'!C251 -> 74 | D8: =+'Year 2025'!D251 -> 52 | E8: =+'Year 2025'!E251 -> 0.17 | F8: =+'Year 2025'!F251 -> 0 | G8: =+'Year 2025'!G251 -> 13
A9: =+'Year 2025'!A252 -> 247 | B9: =+'Year 2025'!B252 -> 45904 | C9: =+'Year 2025'!C252 -> 62 | D9: =+'Year 2025'!D252 -> 39 | E9: =+'Year 2025'!E252 -> 0.01 | F9: =+'Year 2025'!F252 -> 0 | G9: =+'Year 2025'!G252 -> 6
A10: =+'Year 2025'!A253 -> 248 | B10: =+'Year 2025'!B253 -> 45905 | C10: =+'Year 2025'!C253 -> 56 | D10: =+'Year 2025'!D253 -> 42 | E10: =+'Year 2025'!E253 -> 0.16 | F10: =+'Year 2025'!F253 -> 0 | G10: =+'Year 2025'!G253 -> 3
A11: =+'Year 2025'!A254 -> 249 | B11: =+'Year 2025'!B254 -> 45906 | C11: =+'Year 2025'!C254 -> 55 | D11: =+'Year 2025'!D254 -> 43 | E11: =+'Year 2025'!E254 -> 0.06 | F11: =+'Year 2025'!F254 -> 0 | G11: =+'Year 2025'!G254 -> 2.5
A12: =+'Year 2025'!A255 -> 250 | B12: =+'Year 2025'!B255 -> 45907 | C12: =+'Year 2025'!C255 -> 62 | D12: =+'Year 2025'!D255 -> 41 | E12: =+'Year 2025'!E255 -> 0 | F12: =+'Year 2025'!F255 -> 0 | G12: =+'Year 2025'!G255 -> 6
A13: =+'Year 2025'!A256 -> 251 | B13: =+'Year 2025'!B256 -> 45908 | C13: =+'Year 2025'!C256 -> 63 | D13: =+'Year 2025'!D256 -> 40 | E13: =+'Year 2025'!E256 -> 0 | F13: =+'Year 2025'!F256 -> 0 | G13: =+'Year 2025'!G256 -> 6.5
A14: =+'Year 2025'!A257 -> 252 | B14: =+'Year 2025'!B257 -> 45909 | C14: =+'Year 2025'!C257 -> 69 | D14: =+'Year 2025'!D257 -> 45 | E14: =+'Year 2025'!E257 -> 0 | F14: =+'Year 2025'!F257 -> 0 | G14: =+'Year 2025'!G257 -> 9.5
A15: =+'Year 2025'!A258 -> 253 | B15: =+'Year 2025'!B258 -> 45910 | C15: =+'Year 2025'!C258 -> 74 | D15: =+'Year 2025'!D258 -> 54 | E15: =+'Year 2025'!E258 -> 0.05 | F15: =+'Year 2025'!F258 -> 0 | G15: =+'Year 2025'!G258 -> 14
A16: =+'Year 2025'!A259 -> 254 | B16: =+'Year 2025'!B259 -> 45911 | C16: =+'Year 2025'!C259 -> 70 | D16: =+'Year 2025'!D259 -> 58 | E16: =+'Year 2025'!E259 -> 0 | F16: =+'Year 2025'!F259 -> 0 | G16: =+'Year 2025'!G259 -> 14
A17: =+'Year 2025'!A260 -> 255 | B17: =+'Year 2025'!B260 -> 45912 | C17: =+'Year 2025'!C260 -> 69 | D17: =+'Year 2025'!D260 -> 54 | E17: =+'Year 2025'!E260 -> 0 | F17: =+'Year 2025'!F260 -> 0 | G17: =+'Year 2025'!G260 -> 11.5
... A35: =+'Year 2025'!A278 -> 273 | B35: =+'Year 2025'!B278 -> 45930 | C35: =+'Year 2025'!C278 -> 83 | D35: =+'Year 2025'!D278 -> 49 | E35: =+'Year 2025'!E278 -> 0 | F35: =+'Year 2025'!F278 -> 0 | G35: =+'Year 2025'!G278 -> 16.5
B36: AVG HIGH= | C36: =+C47 -> 72.433333 | D36: YR AVG= | E36: 69.7 | F36: DEV= | G36: =+C36-E36 -> 2.7333333
B37: AVG LOW= | C37: =+D47 -> 51.966667 | D37: YR AVG= | E37: 45.4 | F37: DEV= | G37: =+C37-E37 -> 6.5666667
B38: AVG MON= | C38: =AVERAGE(C5:D35) -> 62.2 | D38: YR AVG= | E38: 57.6 | F38: DEV= | G38: =+C38-E38 -> 4.6
B39: PRECIP= | C39: =+E47 -> 2.03 | D39: YR AVG= | E39: 4.09 | F39: DEV= | G39: =+C39-E39 -> -2.06
B40: SNOW= | C40: =+F47 -> 0 | D40: YR AVG= | E40: 0 | F40: DEV= | G40: =+C40-E40 -> 0
B41: G.G.D.= | C41: =+G47 -> 398 | D41: YR AVG= | E41: 349 | F41: DEV= | G41: =+C41-E41 -> 49
B42: MAX TEMP= | C42: =MAX(C5:C35) -> 83 | D42: 9/17,30/25
B43: MIN TEMP= | C43: =MIN(D5:D35) -> 39 | D43: 45904
C46: AVG HIGH | D46: AVG LOW | E46: PRECIP | F46: SNOW | G46: G.G.D.
C47: =AVERAGE(C5:C35) -> 72.433333 | D47: =AVERAGE(D5:D35) -> 51.966667 | E47: =SUM(E5:E35) -> 2.03 | F47: =SUM(F5:F35) -> 0 | G47: =SUM(G5:G35) -> 398

Sheet OCT
B3: =JAN!B3 -> 2025 | C3: Weather Data
A5: LIST # | B5: Date | C5: High | D5: Low | E5: Precip | F5: Snow | G5: G.D.D. | I5: Avg High | J5: Avg Low | K5: Total Precip
A6: =+'Year 2025'!A279 -> 274 | B6: =+'Year 2025'!B279 -> 45931 | C6: =+'Year 2025'!C279 -> 79 | D6: =+'Year 2025'!D279 -> 54 | E6: =+'Year 2025'!E279 -> 0 | F6: =+'Year 2025'!F279 -> 0 | G6: =+'Year 2025'!G279 -> 16.5
A7: =+'Year 2025'!A280 -> 275 | B7: =+'Year 2025'!B280 -> 45932 | C7: =+'Year 2025'!C280 -> 75 | D7: =+'Year 2025'!D280 -> 54 | E7: =+'Year 2025'!E280 -> 0 | F7: =+'Year 2025'!F280 -> 0 | G7: =+'Year 2025'!G280 -> 14.5
A8: =+'Year 2025'!A281 -> 276 | B8: =+'Year 2025'!B281 -> 45933 | C8: =+'Year 2025'!C281 -> 78 | D8: =+'Year 2025'!D281 -> 55 | E8: =+'Year 2025'!E281 -> 0 | F8: =+'Year 2025'!F281 -> 0 | G8: =+'Year 2025'!G281 -> 16.5
A9: =+'Year 2025'!A282 -> 277 | B9: =+'Year 2025'!B282 -> 45934 | C9: =+'Year 2025'!C282 -> 83 | D9: =+'Year 2025'!D282 -> 60 | E9: =+'Year 2025'!E282 -> 0 | F9: =+'Year 2025'!F282 -> 0 | G9: =+'Year 2025'!G282 -> 21.5
A10: =+'Year 2025'!A283 -> 278 | B10: =+'Year 2025'!B283 -> 45935 | C10: =+'Year 2025'!C283 -> 83 | D10: =+'Year 2025'!D283 -> 60 | E10: =+'Year 2025'!E283 -> 0 | F10: =+'Year 2025'!F283 -> 0 | G10: =+'Year 2025'!G283 -> 21.5
A11: =+'Year 2025'!A284 -> 279 | B11: =+'Year 2025'!B284 -> 45936 | C11: =+'Year 2025'!C284 -> 78 | D11: =+'Year 2025'!D284 -> 49 | E11: =+'Year 2025'!E284 -> 0.36 | F11: =+'Year 2025'!F284 -> 0 | G11: =+'Year 2025'!G284 -> 14
A12: =+'Year 2025'!A285 -> 280 | B12: =+'Year 2025'!B285 -> 45937 | C12: =+'Year 2025'!C285 -> 59 | D12: =+'Year 2025'!D285 -> 39 | E12: =+'Year 2025'!E285 -> 0 | F12: =+'Year 2025'!F285 -> 0 | G12: =+'Year 2025'!G285 -> 4.5
A13: =+'Year 2025'!A286 -> 281 | B13: =+'Year 2025'!B286 -> 45938 | C13: =+'Year 2025'!C286 -> 65 | D13: =+'Year 2025'!D286 -> 33 | E13: =+'Year 2025'!E286 -> 0 | F13: =+'Year 2025'!F286 -> 0 | G13: =+'Year 2025'!G286 -> 7.5
A14: =+'Year 2025'!A287 -> 282 | B14: =+'Year 2025'!B287 -> 45939 | C14: =+'Year 2025'!C287 -> 58 | D14: =+'Year 2025'!D287 -> 34 | E14: =+'Year 2025'!E287 -> 0 | F14: =+'Year 2025'!F287 -> 0 | G14: =+'Year 2025'!G287 -> 4
A15: =+'Year 2025'!A288 -> 283 | B15: =+'Year 2025'!B288 -> 45940 | C15: =+'Year 2025'!C288 -> 61 | D15: =+'Year 2025'!D288 -> 38 | E15: =+'Year 2025'!E288 -> 0.04 | F15: =+'Year 2025'!F288 -> 0 | G15: =+'Year 2025'!G288 -> 5.5
A16: =+'Year 2025'!A289 -> 284 | B16: =+'Year 2025'!B289 -> 45941 | C16: =+'Year 2025'!C289 -> 67 | D16: =+'Year 2025'!D289 -> 36 | E16: =+'Year 2025'!E289 -> 0 | F16: =+'Year 2025'!F289 -> 0 | G16: =+'Year 2025'!G289 -> 8.5
A17: =+'Year 2025'!A290 -> 285 | B17: =+'Year 2025'!B290 -> 45942 | C17: =+'Year 2025'!C290 -> 62 | D17: =+'Year 2025'!D290 -> 43 | E17: =+'Year 2025'!E290 -> 0 | F17: =+'Year 2025'!F290 -> 0 | G17: =+'Year 2025'!G290 -> 6
... A36: =+'Year 2025'!A309 -> 304 | B36: =+'Year 2025'!B309 -> 45961 | C36: =+'Year 2025'!C309 -> 55 | D36: =+'Year 2025'!D309 -> 31 | E36: =+'Year 2025'!E309 -> 0 | F36: =+'Year 2025'!F309 -> 0 | G36: =+'Year 2025'!G309 -> 2.5
B37: AVG HIGH= | C37: =+C48 -> 61.677419 | D37: YR AVG= | E37: 58.6 | F37: DEV= | G37: =+C37-E37 -> 3.0774194
B38: AVG LOW= | C38: =+D48 -> 41.451613 | D38: YR AVG= | E38: 35.9 | F38: DEV= | G38: =+C38-E38 -> 5.5516129
B39: AVG MON= | C39: =AVERAGE(C6:D36) -> 51.564516 | D39: YR AVG= | E39: 47.3 | F39: DEV= | G39: =+C39-E39 -> 4.2645161
B40: PRECIP= | C40: =+E48 -> 1.33 | D40: YR AVG= | E40: 2.67 | F40: DEV= | G40: =+C40-E40 -> -1.34
B41: SNOW= | C41: =+F48 -> 0 | D41: YR AVG= | E41: 0.2 | F41: DEV= | G41: =+C41-E41 -> -0.2
B42: G.G.D.= | C42: =+G48 -> 206.5 | D42: YR AVG= | F42: DEV=
B43: MAX TEMP= | C43: =MAX(C6:C36) -> 83 | D43: 10/4,5/25
B44: MIN TEMP= | C44: =MIN(D6:D36) -> 26 | D44: 45954
C47: AVG HIGH | D47: AVG LOW | E47: PRECIP | F47: SNOW | G47: G.G.D.
C48: =AVERAGE(C6:C36) -> 61.677419 | D48: =AVERAGE(D6:D36) -> 41.451613 | E48: =SUM(E6:E36) -> 1.33 | F48: =SUM(F6:F36) -> 0 | G48: =SUM(G6:G36) -> 206.5

Sheet NOV
B3: =JAN!B3 -> 2025 | C3: Weather Data
A5: LIST # | B5: Date | C5: High | D5: Low | E5: Precip | F5: Snow | G5: G.D.D. | I5: Avg High | J5: Avg Low | K5: Total Precip
A6: =+'Year 2025'!A310 -> 305 | B6: =+'Year 2025'!B310 -> 45962 | C6: =+'Year 2025'!C310 -> 44 | D6: =+'Year 2025'!D310 -> 34 | E6: =+'Year 2025'!E310 -> 0.04 | F6: =+'Year 2025'!F310 -> 0 | G6: =+'Year 2025'!G310 -> 0
A7: =+'Year 2025'!A311 -> 306 | B7: =+'Year 2025'!B311 -> 45963 | C7: =+'Year 2025'!C311 -> 46 | D7: =+'Year 2025'!D311 -> 25 | E7: =+'Year 2025'!E311 -> 0 | F7: =+'Year 2025'!F311 -> 0 | G7: =+'Year 2025'!G311 -> 0
A8: =+'Year 2025'!A312 -> 307 | B8: =+'Year 2025'!B312 -> 45964 | C8: =+'Year 2025'!C312 -> 47 | D8: =+'Year 2025'!D312 -> 32 | E8: =+'Year 2025'!E312 -> 0.01 | F8: =+'Year 2025'!F312 -> 0 | G8: =+'Year 2025'!G312 -> 0
A9: =+'Year 2025'!A313 -> 308 | B9: =+'Year 2025'!B313 -> 45965 | C9: =+'Year 2025'!C313 -> 56 | D9: =+'Year 2025'!D313 -> 30 | E9: =+'Year 2025'!E313 -> 0 | F9: =+'Year 2025'!F313 -> 0 | G9: =+'Year 2025'!G313 -> 3
A10: =+'Year 2025'!A314 -> 309 | B10: =+'Year 2025'!B314 -> 45966 | C10: =+'Year 2025'!C314 -> 56 | D10: =+'Year 2025'!D314 -> 35 | E10: =+'Year 2025'!E314 -> 0 | F10: =+'Year 2025'!F314 -> 0 | G10: =+'Year 2025'!G314 -> 3
A11: =+'Year 2025'!A315 -> 310 | B11: =+'Year 2025'!B315 -> 45967 | C11: =+'Year 2025'!C315 -> 53 | D11: =+'Year 2025'!D315 -> 24 | E11: =+'Year 2025'!E315 -> 0 | F11: =+'Year 2025'!F315 -> 0 | G11: =+'Year 2025'!G315 -> 1.5
A12: =+'Year 2025'!A316 -> 311 | B12: =+'Year 2025'!B316 -> 45968 | C12: =+'Year 2025'!C316 -> 49 | D12: =+'Year 2025'!D316 -> 28 | E12: =+'Year 2025'!E316 -> 0 | F12: =+'Year 2025'!F316 -> 0 | G12: =+'Year 2025'!G316 -> 0
A13: =+'Year 2025'!A317 -> 312 | B13: =+'Year 2025'!B317 -> 45969 | C13: =+'Year 2025'!C317 -> 50 | D13: =+'Year 2025'!D317 -> 30 | E13: =+'Year 2025'!E317 -> 0 | F13: =+'Year 2025'!F317 -> 0 | G13: =+'Year 2025'!G317 -> 0
A14: =+'Year 2025'!A318 -> 313 | B14: =+'Year 2025'!B318 -> 45970 | C14: =+'Year 2025'!C318 -> 36 | D14: =+'Year 2025'!D318 -> 20 | E14: =+'Year 2025'!E318 -> 0.03 | F14: =+'Year 2025'!F318 -> 0.5 | G14: =+'Year 2025'!G318 -> 0
A15: =+'Year 2025'!A319 -> 314 | B15: =+'Year 2025'!B319 -> 45971 | C15: =+'Year 2025'!C319 -> 29 | D15: =+'Year 2025'!D319 -> 19 | E15: =+'Year 2025'!E319 -> T | F15: =+'Year 2025'!F319 -> T | G15: =+'Year 2025'!G319 -> 0
A16: =+'Year 2025'!A320 -> 315 | B16: =+'Year 2025'!B320 -> 45972 | C16: =+'Year 2025'!C320 -> 32 | D16: =+'Year 2025'!D320 -> 20 | E16: =+'Year 2025'!E320 -> 0.01 | F16: =+'Year 2025'!F320 -> 0.2 | G16: =+'Year 2025'!G320 -> 0
A17: =+'Year 2025'!A321 -> 316 | B17: =+'Year 2025'!B321 -> 45973 | C17: =+'Year 2025'!C321 -> 43 | D17: =+'Year 2025'!D321 -> 26 | E17: =+'Year 2025'!E321 -> 0 | F17: =+'Year 2025'!F321 -> 0 | G17: =+'Year 2025'!G321 -> 0
... A35: =+'Year 2025'!A339 -> 334 | B35: =+'Year 2025'!B339 -> 45991 | C35: =+'Year 2025'!C339 -> 24 | D35: =+'Year 2025'!D339 -> 19 | E35: =+'Year 2025'!E339 -> 0.45 | F35: =+'Year 2025'!F339 -> 6.6 | G35: =+'Year 2025'!G339 -> 0
B36: AVG HIGH= | C36: =+C47 -> 42.8 | D36: YR AVG= | E36: 40.7 | F36: DEV= | G36: =+C36-E36 -> 2.1
B37: AVG LOW= | C37: =+D47 -> 25.8 | D37: YR AVG= | E37: 23.3 | F37: DEV= | G37: =+C37-E37 -> 2.5
B38: AVG MON= | C38: =AVERAGE(C5:D35) -> 34.3 | D38: YR AVG= | E38: 32 | F38: DEV= | G38: =+C38-E38 -> 2.3
B39: PRECIP= | C39: =+E47 -> 1.58 | D39: YR AVG= | E39: 1.76 | F39: DEV= | G39: =+C39-E39 -> -0.18
B40: SNOW= | C40: =+F47 -> 11.4 | D40: YR AVG= | E40: 5.5 | F40: DEV= | G40: =+C40-E40 -> 5.9
B41: G.G.D.= | C41: =+G47 -> 17.5 | D41: YR AVG= | F41: DEV=
B42: MAX TEMP= | C42: =MAX(C5:C35) -> 61 | D42: 45976
B43: MIN TEMP= | C43: =MIN(D5:D35) -> 17 | D43: 45980
C46: AVG HIGH | D46: AVG LOW | E46: PRECIP | F46: SNOW | G46: G.G.D.
C47: =AVERAGE(C5:C35) -> 42.8 | D47: =AVERAGE(D5:D35) -> 25.8 | E47: =SUM(E5:E35) -> 1.58 | F47: =SUM(F5:F35) -> 11.4 | G47: =SUM(G5:G35) -> 17.5

Sheet DEC
B3: =JAN!B3 -> 2025 | C3: Weather Data
A5: LIST # | B5: Date | C5: High | D5: Low | E5: Precip | F5: Snow | G5: G.D.D. | I5: Avg High | J5: Avg Low | K5: Total Precip
A6: =+'Year 2025'!A340 -> 335 | B6: =+'Year 2025'!B340 -> 45992 | C6: =+'Year 2025'!C340 -> 27 | D6: =+'Year 2025'!D340 -> 13 | E6: =+'Year 2025'!E340 -> 0 | F6: =+'Year 2025'!F340 -> 0 | G6: =+'Year 2025'!G340 -> 0
A7: =+'Year 2025'!A341 -> 336 | B7: =+'Year 2025'!B341 -> 45993 | C7: =+'Year 2025'!C341 -> 19 | D7: =+'Year 2025'!D341 -> 12 | E7: =+'Year 2025'!E341 -> 0.01 | F7: =+'Year 2025'!F341 -> 0.2 | G7: =+'Year 2025'!G341 -> 0
A8: =+'Year 2025'!A342 -> 337 | B8: =+'Year 2025'!B342 -> 45994 | C8: =+'Year 2025'!C342 -> 24 | D8: =+'Year 2025'!D342 -> 13 | E8: =+'Year 2025'!E342 -> 0.02 | F8: =+'Year 2025'!F342 -> 0.5 | G8: =+'Year 2025'!G342 -> 0
A9: =+'Year 2025'!A343 -> 338 | B9: =+'Year 2025'!B343 -> 45995 | C9: =+'Year 2025'!C343 -> 21 | D9: =+'Year 2025'!D343 -> -7 | E9: =+'Year 2025'!E343 -> 0 | F9: =+'Year 2025'!F343 -> 0 | G9: =+'Year 2025'!G343 -> 0
A10: =+'Year 2025'!A344 -> 339 | B10: =+'Year 2025'!B344 -> 45996 | C10: =+'Year 2025'!C344 -> 16 | D10: =+'Year 2025'!D344 -> -5 | E10: =+'Year 2025'!E344 -> 0 | F10: =+'Year 2025'!F344 -> 0 | G10: =+'Year 2025'!G344 -> 0
A11: =+'Year 2025'!A345 -> 340 | B11: =+'Year 2025'!B345 -> 45997 | C11: =+'Year 2025'!C345 -> 22 | D11: =+'Year 2025'!D345 -> 7 | E11: =+'Year 2025'!E345 -> 0.08 | F11: =+'Year 2025'!F345 -> 1 | G11: =+'Year 2025'!G345 -> 0
A12: =+'Year 2025'!A346 -> 341 | B12: =+'Year 2025'!B346 -> 45998 | C12: =+'Year 2025'!C346 -> 21 | D12: =+'Year 2025'!D346 -> 0 | E12: =+'Year 2025'!E346 -> 0.03 | F12: =+'Year 2025'!F346 -> 0.5 | G12: =+'Year 2025'!G346 -> 0
A13: =+'Year 2025'!A347 -> 342 | B13: =+'Year 2025'!B347 -> 45999 | C13: =+'Year 2025'!C347 -> 10 | D13: =+'Year 2025'!D347 -> -5 | E13: =+'Year 2025'!E347 -> 0 | F13: =+'Year 2025'!F347 -> 0 | G13: =+'Year 2025'!G347 -> 0
A14: =+'Year 2025'!A348 -> 343 | B14: =+'Year 2025'!B348 -> 46000 | C14: =+'Year 2025'!C348 -> 21 | D14: =+'Year 2025'!D348 -> -1 | E14: =+'Year 2025'!E348 -> 0.04 | F14: =+'Year 2025'!F348 -> 1 | G14: =+'Year 2025'!G348 -> 0
A15: =+'Year 2025'!A349 -> 344 | B15: =+'Year 2025'!B349 -> 46001 | C15: =+'Year 2025'!C349 -> 24 | D15: =+'Year 2025'!D349 -> 20 | E15: =+'Year 2025'!E349 -> 0.48 | F15: =+'Year 2025'!F349 -> 6.8 | G15: =+'Year 2025'!G349 -> 0
A16: =+'Year 2025'!A350 -> 345 | B16: =+'Year 2025'!B350 -> 46002 | C16: =+'Year 2025'!C350 -> 24 | D16: =+'Year 2025'!D350 -> 3 | E16: =+'Year 2025'!E350 -> 0 | F16: =+'Year 2025'!F350 -> 0 | G16: =+'Year 2025'!G350 -> 0
A17: =+'Year 2025'!A351 -> 346 | B17: =+'Year 2025'!B351 -> 46003 | C17: =+'Year 2025'!C351 -> 17 | D17: =+'Year 2025'!D351 -> -1 | E17: =+'Year 2025'!E351 -> 0 | F17: =+'Year 2025'!F351 -> 0 | G17: =+'Year 2025'!G351 -> 0
... A36: =+'Year 2025'!A370 -> 365 | B36: =+'Year 2025'!B370 -> 46022 | C36: =+'Year 2025'!C370 -> 25 | D36: =+'Year 2025'!D370 -> 4 | E36: =+'Year 2025'!E370 -> 0.05 | F36: =+'Year 2025'!F370 -> 0.5 | G36: =+'Year 2025'!G370 -> 0
B37: AVG HIGH= | C37: =+C48 -> 24.645161 | D37: YR AVG= | E37: 26.9 | F37: DEV= | G37: =+C37-E37 -> -2.2548387
B38: AVG LOW= | C38: =+D48 -> 7.2580645 | D38: YR AVG= | E38: 10 | F38: DEV= | G38: =+C38-E38 -> -2.7419355
B39: AVG MON= | C39: =AVERAGE(C6:D35) -> 16 | D39: YR AVG= | E39: 18.5 | F39: DEV= | G39: =+C39-E39 -> -2.5
B40: PRECIP= | C40: =+E48 -> 1.56 | D40: YR AVG= | E40: 1.27 | F40: DEV= | G40: =+C40-E40 -> 0.29
B41: SNOW= | C41: =+F48 -> 19 | D41: YR AVG= | E41: 11 | F41: DEV= | G41: =+C41-E41 -> 8
B42: G.G.D.= | C42: =+G48 -> 0 | D42: YR AVG= | F42: DEV= | G42: =+C42-E42 -> 0
B43: MAX TEMP= | C43: =MAX(C6:C35) -> 40 | D43: 46008
B44: MIN TEMP= | C44: =MIN(D7:D37) -> -14 | D44: 12/14,15/25
C47: AVG HIGH | D47: AVG LOW | E47: PRECIP | F47: SNOW | G47: G.G.D.
C48: =AVERAGE(C6:C36) -> 24.645161 | D48: =AVERAGE(D6:D36) -> 7.2580645 | E48: =SUM(E6:E36) -> 1.56 | F48: =SUM(F6:F36) -> 19 | G48: =SUM(G6:G35) -> 0

Sheet Year 2025
B3: 2025 Weather
B5: Date | C5: High | D5: Low | E5: Precip | F5: Snow | G5: DAILY G.D.D. | H5: MONTHLY G.D.D. | I5: Avg High | J5: Avg Low | K5: Total Precip | L5: Total Snow Fall | M5: Seasonal G.D.D. To Date | N5: Seasonal PRECIP To Date
A6: 1 | B6: 45658 | C6: 30 | D6: 21 | E6: 0.04 | F6: 0.3 | N6: .
A7: 2 | B7: 45659 | C7: 22 | D7: 10 | E7: 0.01 | F7: 0.2
A8: 3 | B8: 45660 | C8: 19 | D8: 8 | E8: 0.01 | F8: 0.7
A9: 4 | B9: 45661 | C9: 15 | D9: -3 | E9: 0 | F9: 0
A10: 5 | B10: 45662 | C10: 12 | D10: -3 | E10: 0 | F10: 0
A11: 6 | B11: 45663 | C11: 16 | D11: -2 | E11: 0 | F11: 0
A12: 7 | B12: 45664 | C12: 26 | D12: 8 | E12: 0 | F12: 0
A13: 8 | B13: 45665 | C13: 22 | D13: 5 | E13: 0 | F13: 0
A14: 9 | B14: 45666 | C14: 20 | D14: 7 | E14: 0 | F14: 0
A15: 10 | B15: 45667 | C15: 25 | D15: 8 | E15: T | F15: T
A16: 11 | B16: 45668 | C16: 26 | D16: 17 | E16: T | F16: 0.2
A17: 12 | B17: 45669 | C17: 24 | D17: 17 | E17: 0.07 | F17: 0.7
A18: 13 | B18: 45670 | C18: 27 | D18: -8 | E18: 0.04 | F18: 0.3
A19: 14 | B19: 45671 | C19: 5 | D19: -10 | E19: 0 | F19: 0
A20: 15 | B20: 45672 | C20: 7 | D20: -10 | E20: 0 | F20: 0
A21: 16 | B21: 45673 | C21: 29 | D21: -8 | E21: 0.02 | F21: 0.4
A22: 17 | B22: 45674 | C22: 35 | D22: 22 | E22: 0 | F22: 0
A23: 18 | B23: 45675 | C23: 36 | D23: 9 | E23: 0 | F23: 0
A24: 19 | B24: 45676 | C24: 14 | D24: -13 | E24: 0 | F24: 0
A25: 20 | B25: 45677 | C25: -4 | D25: -17 | E25: 0 | F25: 0
A26: 21 | B26: 45678 | C26: -5 | D26: -22 | E26: 0 | F26: 0
A27: 22 | B27: 45679 | C27: 6 | D27: -22 | E27: 0.01 | F27: 0.1
A28: 23 | B28: 45680 | C28: 20 | D28: -2 | E28: 0.01 | F28: 0.2
A29: 24 | B29: 45681 | C29: 10 | D29: -12 | E29: 0 | F29: 0
A30: 25 | B30: 45682 | C30: 20 | D30: -12 | E30: T | F30: T
A31: 26 | B31: 45683 | C31: 31 | D31: 3 | E31: 0 | F31: 0
A32: 27 | B32: 45684 | C32: 26 | D32: 4 | E32: 0 | F32: 0
A33: 28 | B33: 45685 | C33: 33 | D33: 16 | E33: 0 | F33: 0
A34: 29 | B34: 45686 | C34: 44 | D34: 23 | E34: 0 | F34: 0
A35: 30 | B35: 45687 | C35: 34 | D35: 22 | E35: 0 | F35: 0
A36: 31 | B36: 45688 | C36: 50 | D36: 25 | E36: 0 | F36: 0 | I36: =AVERAGE(C6:C36) -> 21.774194 | J36: =AVERAGE(D6:D36) -> 2.6129032 | K36: =SUM(E6:E36) -> 0.21 | L36: =SUM(F6:F36) -> 3.1
A37: 32 | B37: 45689 | C37: 41 | D37: 14 | E37: 0 | F37: 0
A38: 33 | B38: 45690 | C38: 27 | D38: 14 | E38: 0.02 | F38: 0.3
A39: 34 | B39: 45691 | C39: 33 | D39: 27 | E39: 0.17 | F39: 2.8
A40: 35 | B40: 45692 | C40: 29 | D40: -3 | E40: 0.08 | F40: 0.5
A41: 36 | B41: 45693 | C41: 7 | D41: -3 | E41: 0 | F41: 0
A42: 37 | B42: 45694 | C42: 22 | D42: 2 | E42: 0.02 | F42: 0.1
A43: 38 | B43: 45695 | C43: 24 | D43: 4 | E43: 0 | F43: 0
...
